BEGIN:VCALENDAR
VERSION:2.0
PRODID:TU Chemnitz
METHOD:PUBLISH
X-WR-CALNAME:Veranstaltungen der TU Chemnitz
X-WR-TIMEZONE:Europe/Berlin
BEGIN:VEVENT
CLASS:PUBLIC
DTSTART;TZID="Europe/Berlin":20090804T100000
DTEND;TZID="Europe/Berlin":20090804T120000
LOCATION:Thüringer Weg 11\, Chemnitz
SUMMARY:Nebenjob-Beratung (Students@Work)
DESCRIPTION:Wir beraten Studenten u.a. zu folgenden Themen: Nebenjob\, Sozialversicherung\, Arbeitsrecht.\nbus@stura.tu-chemnitz.de
ORGANIZER:MAILTO:robert.gerstenberger@s2004.tu-chemnitz.de
UID:11592@www.tu-chemnitz.de
CREATED:20090802T193900Z
DTSTAMP:20210802T193557Z
END:VEVENT
END:VCALENDAR
