BEGIN:VCALENDAR
VERSION:2.0
PRODID:TU Chemnitz
METHOD:PUBLISH
X-WR-CALNAME:Veranstaltungen der TU Chemnitz
X-WR-TIMEZONE:Europe/Berlin
BEGIN:VEVENT
CLASS:PUBLIC
DTSTART;VALUE=DATE:20090724
DTEND;TZID="Europe/Berlin":20090809T235900
LOCATION:
SUMMARY:Online Umfrage: "Nutzung von Handy\, Internet und Co. im studentischen Alltag"
DESCRIPTION:Ich bin Student der Wirtschaftswissenschaften und benötige für eine Umfrage zum Thema "Nutzung von Handy\, Internet und Co. im studentischen Alltag" Deine Unterstützung.\nphilipp.schlegel@s2004.tu-chemnitz.de
ORGANIZER:MAILTO:philipp.schlegel@s2004.tu-chemnitz.de
UID:11587@www.tu-chemnitz.de
CREATED:20090724T091200Z
DTSTAMP:20210802T193629Z
END:VEVENT
END:VCALENDAR
