BEGIN:VCALENDAR
VERSION:2.0
PRODID:TU Chemnitz
METHOD:PUBLISH
X-WR-CALNAME:Veranstaltungen der TU Chemnitz
X-WR-TIMEZONE:Europe/Berlin
BEGIN:VEVENT
CLASS:PUBLIC
DTSTART;TZID="Europe/Berlin":20000526T130000
DTEND;TZID="Europe/Berlin":20000526T170000
LOCATION:Reichenhainer Str. 70\, Neues Hörsaalgebäude Raum N105
SUMMARY:Nachwuchsentwicklung und Weiterbildung in Netzwerken von kleinen und mittleren Unternehmen (Philosophische Fakultät\, Professur Erwachsenenbildung und betriebliche Weiterbildung)
DESCRIPTION:Der Workshop findet im Rahmen des Forschungsthemas\nRESI statt.\nZiele des Workshops sind die Darstellung und Diskussion von Lösungsansätzen zur Verbesserung der Personalsituation in kleinen und mittleren Unternehmen.\nebbw@phil.tu-chemnitz.de
ORGANIZER:MAILTO:vsa@hrz.tu-chemnitz.de
UID:1158@www.tu-chemnitz.de
CREATED:20000510T165100Z
DTSTAMP:20210802T203011Z
END:VEVENT
END:VCALENDAR
