BEGIN:VCALENDAR
VERSION:2.0
PRODID:TU Chemnitz
METHOD:PUBLISH
X-WR-CALNAME:Veranstaltungen der TU Chemnitz
X-WR-TIMEZONE:Europe/Berlin
BEGIN:VEVENT
CLASS:PUBLIC
DTSTART;TZID="Europe/Berlin":20090714T160000
DTEND;TZID="Europe/Berlin":20090714T183000
LOCATION:Start-up-Gebäude des Smart Systems Campus
SUMMARY:Informationsveranstaltung von SAXEED  (TU Chemnitz)
DESCRIPTION:Infoveranstaltung vom Gründernetzwerk SAXEED zum Thema: „Förderungs- und Finanzierungsmöglichkeiten für wissenschaftliche Existenzgründungen“\n0371/ 531-19900 | info@saxeed.net
ORGANIZER:MAILTO:claudia.kuechler@s2007.tu-chemnitz.de
UID:11571@www.tu-chemnitz.de
CREATED:20090714T114600Z
DTSTAMP:20210802T193628Z
END:VEVENT
END:VCALENDAR
