BEGIN:VCALENDAR
VERSION:2.0
PRODID:TU Chemnitz
METHOD:PUBLISH
X-WR-CALNAME:Veranstaltungen der TU Chemnitz
X-WR-TIMEZONE:Europe/Berlin
BEGIN:VEVENT
CLASS:PUBLIC
DTSTART;TZID="Europe/Berlin":20090930T093000
DTEND;TZID="Europe/Berlin":20091001T150000
LOCATION:Reichenhainer Str. 90\, Chemnitz (Zentr. Hörsaal- und Seminargebäude)
SUMMARY:12. Chemnitzer Textiltechnik-Tagung (TU Chemnitz\, Institut für Allgemeinen Maschinenbau und Kunststofftechnik)
DESCRIPTION:Innovation mit textilen Strukturen ist das Motto der 12. internationalen Textiltechnik-Tagung\, dem Forum\nzur Vorstellung von Forschungs- und Entwicklungsergebnissen\nim Textilmaschinenbau und Strukturleichtbau in Sachsen.\nPeter Meynerts\, 531-32964\, peter.meynerts@mb.tu-chemnitz.de
ORGANIZER:MAILTO:peter.meynerts@mb.tu-chemnitz.de
UID:11564@www.tu-chemnitz.de
CREATED:20090710T120500Z
DTSTAMP:20210802T193542Z
END:VEVENT
END:VCALENDAR
