BEGIN:VCALENDAR
VERSION:2.0
PRODID:TU Chemnitz
METHOD:PUBLISH
X-WR-CALNAME:Veranstaltungen der TU Chemnitz
X-WR-TIMEZONE:Europe/Berlin
BEGIN:VEVENT
CLASS:PUBLIC
DTSTART;TZID="Europe/Berlin":20090708T210000
DTEND;TZID="Europe/Berlin":20090709T030000
LOCATION:Reichenhainer Str. 35/37\, Chemnitz (Studentenwohnheim)
SUMMARY:[PEB] Waikiki Beach-Karaoke
DESCRIPTION:Eintritt Frei!\nhttp://www.studentenkeller-chemnitz.de
ORGANIZER:MAILTO:stefanie.fischer@s2003.tu-chemnitz.de
UID:11562@www.tu-chemnitz.de
CREATED:20090707T191400Z
DTSTAMP:20210802T193626Z
END:VEVENT
END:VCALENDAR
