BEGIN:VCALENDAR
VERSION:2.0
PRODID:TU Chemnitz
METHOD:PUBLISH
X-WR-CALNAME:Veranstaltungen der TU Chemnitz
X-WR-TIMEZONE:Europe/Berlin
BEGIN:VEVENT
CLASS:PUBLIC
DTSTART;TZID="Europe/Berlin":20100322T140000
DTEND;TZID="Europe/Berlin":20100324T160000
LOCATION:Reichenhainer Str. 90\, Chemnitz (Zentr. Hörsaal- und Seminargebäude)
SUMMARY:6. Zsigmondy Kolloquium (Fakultät für Naturwissenschaften\, Physikalische Chemie)
DESCRIPTION:Die Tagung soll junge Wissenschaftler aus verschiedenen Richtungen der grundlagen-und anwendungsorientierten Kolloid- und Grenzflächenforschung zusammenführen. \nEs sind alle dazu recht herzlich eingeladen.\nZsigmondy@tu-chemnitz.de
ORGANIZER:MAILTO:doreen.wachner@chemie.tu-chemnitz.de
UID:11561@www.tu-chemnitz.de
CREATED:20090707T143100Z
DTSTAMP:20210802T193328Z
END:VEVENT
END:VCALENDAR
