BEGIN:VCALENDAR
VERSION:2.0
PRODID:TU Chemnitz
METHOD:PUBLISH
X-WR-CALNAME:Veranstaltungen der TU Chemnitz
X-WR-TIMEZONE:Europe/Berlin
BEGIN:VEVENT
CLASS:PUBLIC
DTSTART;TZID="Europe/Berlin":20000615T100000
DTEND;TZID="Europe/Berlin":20000615T163000
LOCATION:Uni-Teil 3: Reichenhainer Str. 70\, Chemnitz (Zentr. Hörsaal- und Seminargebäude)
SUMMARY:Die Europäische Union auf dem Weg in die Informationsgesellschaft - Chancen für sächsische Forscher (TU Chemnitz\, gemeinsam mit SMWK und GWT der TU Dresden)
DESCRIPTION:Informationsveranstaltung zum EU-IST-Programm mit Plenarteil und zwei parallelen Workshops zu den 4 Leitaktionen\n\nAnmeldung über: http://www.tu-chemnitz.de/verwaltung/wd/ist/\nVertreter von EU\, DLR\, SMWK\, GWT\, TUD\, UL und TUC\nDr. Gert Kreiselmeier\, GWT\, Tel. +49(0371) 5397-309\, Dr. Rainer D. Kittig\, TUC\, Tel. +49(0371) 531-1706
ORGANIZER:MAILTO:rkit@hrz.tu-chemnitz.de
UID:1156@www.tu-chemnitz.de
CREATED:20000509T153500Z
DTSTAMP:20210802T202948Z
END:VEVENT
END:VCALENDAR
