BEGIN:VCALENDAR
VERSION:2.0
PRODID:TU Chemnitz
METHOD:PUBLISH
X-WR-CALNAME:Veranstaltungen der TU Chemnitz
X-WR-TIMEZONE:Europe/Berlin
BEGIN:VEVENT
CLASS:PUBLIC
DTSTART;TZID="Europe/Berlin":20090707T113000
DTEND;TZID="Europe/Berlin":20090707T130000
LOCATION:Reichenhainer Str. 70\, Chemnitz (Weinhold-Bau)
SUMMARY:Mauerfall und deutsche Einheit aus russischer Sicht (Philosophische Fakultät\, Professur Internationale Politik)
DESCRIPTION:Frau Dr. Timofeewa war zur Zeit des Mauerfalls in Ost-Berlin und ist somit nicht nur Historikern sondern auch gleichzeitig Augenzeugin.\nDr. Tatiana Timfeewa (Lomonossow-Universität Moskau)\nEintritt frei
ORGANIZER:MAILTO:daniel.kaempfe@s2002.tu-chemnitz.de
UID:11558@www.tu-chemnitz.de
CREATED:20090706T175200Z
DTSTAMP:20210802T193622Z
END:VEVENT
END:VCALENDAR
