BEGIN:VCALENDAR
VERSION:2.0
PRODID:TU Chemnitz
METHOD:PUBLISH
X-WR-CALNAME:Veranstaltungen der TU Chemnitz
X-WR-TIMEZONE:Europe/Berlin
BEGIN:VEVENT
CLASS:PUBLIC
DTSTART;TZID="Europe/Berlin":20090714T210000
DTEND;TZID="Europe/Berlin":20090714T230000
LOCATION:Kino\, Reichenhainer Str. 35/37\, Keller
SUMMARY:[Campuskino * "mittendrin"] Berlin Calling (filmclub »mittendrin«)
DESCRIPTION:Ein Leben für die elektronische Musik: doch muss dies zwangsläufig in der Nervenklinik enden?\nfilmclub@tu-chemnitz.de
ORGANIZER:MAILTO:robert.gerstenberger@s2004.tu-chemnitz.de
UID:11519@www.tu-chemnitz.de
CREATED:20090629T122600Z
DTSTAMP:20210802T193624Z
END:VEVENT
END:VCALENDAR
