BEGIN:VCALENDAR
VERSION:2.0
PRODID:TU Chemnitz
METHOD:PUBLISH
X-WR-CALNAME:Veranstaltungen der TU Chemnitz
X-WR-TIMEZONE:Europe/Berlin
BEGIN:VEVENT
CLASS:PUBLIC
DTSTART;TZID="Europe/Berlin":20090630T091500
DTEND;TZID="Europe/Berlin":20090630T104500
LOCATION:Wilhelm-Raabe-Str. 43\, Chemnitz
SUMMARY: Raum und Zeit auf mittelalterlichen Mappae mundi am Beispiel der Borgia-Velletri Karte (Philosophische Fakultät)
DESCRIPTION:Unter den mittelalterlichen Weltkarten sog. Borgia Velletri-Karte neue Erfahrungsbestände zum Anlass um v.a. kirchliche Ansprüche auf Weltherrschaft und Weltmission kartographisch festzuhalten.\nProf. Dr. Felicitas Schmieder\nProf. Dr. G. Dohrn-van Rossum
ORGANIZER:MAILTO:isabell.schubert@s2003.tu-chemnitz.de
UID:11506@www.tu-chemnitz.de
CREATED:20090624T211400Z
DTSTAMP:20210802T193722Z
END:VEVENT
END:VCALENDAR
