BEGIN:VCALENDAR
VERSION:2.0
PRODID:TU Chemnitz
METHOD:PUBLISH
X-WR-CALNAME:Veranstaltungen der TU Chemnitz
X-WR-TIMEZONE:Europe/Berlin
BEGIN:VEVENT
CLASS:PUBLIC
DTSTART;TZID="Europe/Berlin":20090624T200000
DTEND;TZID="Europe/Berlin":20090624T230000
LOCATION:Club der Kulturen
SUMMARY:Soirée des jeux sur la langue (TU Chemnitz)
DESCRIPTION:"Ces six saucissons-ci sont six sous. Si ces six saucissons-ci sont six sous\, ces six saucissons-ci sont chers."\nHeute gehts bei uns um französische Zungenbrecher\, Wortspiele und Sprichwörter. Wir freuen uns auf euch...\nhttp://www.tu-chemnitz.de/stud/club/kulturen/
ORGANIZER:MAILTO:bianca.trepte@s2007.tu-chemnitz.de
UID:11498@www.tu-chemnitz.de
CREATED:20090622T161300Z
DTSTAMP:20210802T193720Z
END:VEVENT
END:VCALENDAR
