BEGIN:VCALENDAR
VERSION:2.0
PRODID:TU Chemnitz
METHOD:PUBLISH
X-WR-CALNAME:Veranstaltungen der TU Chemnitz
X-WR-TIMEZONE:Europe/Berlin
BEGIN:VEVENT
CLASS:PUBLIC
DTSTART;TZID="Europe/Berlin":20100128T160000
DTEND;TZID="Europe/Berlin":20100128T180000
LOCATION:Hörsaal 1/232 (Eingang Universitätsbibliothek\, Bahnhofstraße)
SUMMARY:GDCh-Kolloquium\, Prof. Dr. Thomas Thurn-Albrecht\, Universität Halle-Wittenberg\, Institut für Physik\, "Nanostrukturen in funktionalen Polymersystemen: Selbstorganisation\, Unordnung und kontrollierte Strukturbildung" (Fakultät für Naturwissenschaften\, Institut für Chemie zusammen mit der Gesellschaft Deutscher Chemiker (GDCh))
DESCRIPTION:Prof. Dr. Heinrich Lang\, 531-21210\, heinrich.lang@chemie.tu-chemnitz.de
ORGANIZER:MAILTO:sylvia.uhlmann@chemie.tu-chemnitz.de
UID:11489@www.tu-chemnitz.de
CREATED:20090617T104500Z
DTSTAMP:20210802T193414Z
END:VEVENT
END:VCALENDAR
