BEGIN:VCALENDAR
VERSION:2.0
PRODID:TU Chemnitz
METHOD:PUBLISH
X-WR-CALNAME:Veranstaltungen der TU Chemnitz
X-WR-TIMEZONE:Europe/Berlin
BEGIN:VEVENT
CLASS:PUBLIC
DTSTART;TZID="Europe/Berlin":20000627T040000
DTEND;TZID="Europe/Berlin":20000628T230000
LOCATION:Abfahrt siehe Information zur Exkursion
SUMMARY:Exkursion zur METAV 2000 (Fakultät für Maschinenbau und Verfahrenstechnik\, Professur Werkzeugmaschinen)
DESCRIPTION:<b>Anmeldung</b>: Verbindliche Teilnahmeerklärung und Bestellung von Eintrittskarten\nbis spätestens <b>10.05.2000</b> im Sekretariat der Professur für Werkzeugmaschinen\nReichenhainer Str. 70\, Zimmer A 127 abgeben.\nSekretariat der Professur WZM\, Tel. 2421
ORGANIZER:MAILTO:ducom@hrz.tu-chemnitz.de
UID:1147@www.tu-chemnitz.de
CREATED:20000503T130500Z
DTSTAMP:20210802T202946Z
END:VEVENT
END:VCALENDAR
