BEGIN:VCALENDAR
VERSION:2.0
PRODID:TU Chemnitz
METHOD:PUBLISH
X-WR-CALNAME:Veranstaltungen der TU Chemnitz
X-WR-TIMEZONE:Europe/Berlin
BEGIN:VEVENT
CLASS:PUBLIC
DTSTART;TZID="Europe/Berlin":20090701T171500
DTEND;TZID="Europe/Berlin":20090701T184500
LOCATION:Reichenhainer Str. 90\, Chemnitz (Zentr. Hörsaal- und Seminargebäude)
SUMMARY:Physikalisches Kolloquium: "Wie schnell tunnelt man ins Chaos?" (Fakultät für Naturwissenschaften\, Institut für Physik)
DESCRIPTION:Prof. Dr. Roland Ketzmerick; TU Dresden\, Institut für Theoretische Physik\nProf. Dr. Günter Radons\, Tel: 531-33205
ORGANIZER:MAILTO:michaela.knierim@physik.tu-chemnitz.de
UID:11464@www.tu-chemnitz.de
CREATED:20090608T054000Z
DTSTAMP:20210802T193625Z
END:VEVENT
END:VCALENDAR
