BEGIN:VCALENDAR
VERSION:2.0
PRODID:TU Chemnitz
METHOD:PUBLISH
X-WR-CALNAME:Veranstaltungen der TU Chemnitz
X-WR-TIMEZONE:Europe/Berlin
BEGIN:VEVENT
CLASS:PUBLIC
DTSTART;TZID="Europe/Berlin":20090611T171500
DTEND;TZID="Europe/Berlin":20090611T180000
LOCATION:Reichenhainer Str. 90\, Chemnitz (Zentr. Hörsaal- und Seminargebäude)
SUMMARY:Katastrophenmanagement aus dem Weltall. UN-SPIDER und das Early Warning System (Philosophische Fakultät\, Professur Internationale Politik)
DESCRIPTION:Dr. Cornelia Rieß (Leiterin Internationale Zusammenarbeit\, Deutsches Zentrum für Luft- und Raumfahrt)\nEintritt frei
ORGANIZER:MAILTO:daniel.kaempfe@s2002.tu-chemnitz.de
UID:11463@www.tu-chemnitz.de
CREATED:20090605T162000Z
DTSTAMP:20210802T193726Z
END:VEVENT
END:VCALENDAR
