BEGIN:VCALENDAR
VERSION:2.0
PRODID:TU Chemnitz
METHOD:PUBLISH
X-WR-CALNAME:Veranstaltungen der TU Chemnitz
X-WR-TIMEZONE:Europe/Berlin
BEGIN:VEVENT
CLASS:PUBLIC
DTSTART;TZID="Europe/Berlin":20090617T190000
DTEND;TZID="Europe/Berlin":20090617T210000
LOCATION:Reichenhainer Str. 90\, Chemnitz (Zentr. Hörsaal- und Seminargebäude)
SUMMARY:UNI goes UNO: Chemnitzer Studenten beim National Model United Nations (NMUN) in New York (Philosophische Fakultät\, Professur Internationale Politik)
DESCRIPTION:Abschlusspräsentation der studentischen Delegation\, die im April 2009 nach New York reiste\, um während der weltweitgrößten UNO-Simulation (NMUN) in die Rolle israelischer Diplomaten zu schlüpfen. Informationen zur Bewerbung für 2010!\nsusanne.guenther@phil.tu-chemnitz.de
ORGANIZER:MAILTO:susanne.guenther@phil.tu-chemnitz.de
UID:11453@www.tu-chemnitz.de
CREATED:20090602T114000Z
DTSTAMP:20210802T193711Z
END:VEVENT
END:VCALENDAR
