BEGIN:VCALENDAR
VERSION:2.0
PRODID:TU Chemnitz
METHOD:PUBLISH
X-WR-CALNAME:Veranstaltungen der TU Chemnitz
X-WR-TIMEZONE:Europe/Berlin
BEGIN:VEVENT
CLASS:PUBLIC
DTSTART;TZID="Europe/Berlin":20000509T170000
DTEND;TZID="Europe/Berlin":20000509T183000
LOCATION:Uni-Teil 3: Reichenhainer Str. 70\, Chemnitz (Zentr. Hörsaal- und Seminargebäude)
SUMMARY:Jurij Brezan liest in "Literatur live" (Philosophische Fakultät\, Prof.Dr.Elke Mehnert)
DESCRIPTION:In der Reihe "Literatur live" liest der bekannteste sorbische Autor alte\, vor allem aber neue Texte.\nEintritt: frei  \n\ntel.Anfragen: 531-4530
ORGANIZER:MAILTO:elke@hrz.tu-chemnitz.de
UID:1145@www.tu-chemnitz.de
CREATED:20000502T105600Z
DTSTAMP:20210802T203011Z
END:VEVENT
END:VCALENDAR
