BEGIN:VCALENDAR
VERSION:2.0
PRODID:TU Chemnitz
METHOD:PUBLISH
X-WR-CALNAME:Veranstaltungen der TU Chemnitz
X-WR-TIMEZONE:Europe/Berlin
BEGIN:VEVENT
CLASS:PUBLIC
DTSTART;TZID="Europe/Berlin":20090611T160000
DTEND;TZID="Europe/Berlin":20090611T173000
LOCATION:Reichenhainer Str. 70\, Chemnitz (Rühlmann-Bau)
SUMMARY:Chemnitzer Mathematisches Colloquium (Fakultät für Mathematik)
DESCRIPTION:Dr. Konrad Swanepoel\, TU Chemnitz\nLeitung des Colloquiums: Herr Prof. Martini
ORGANIZER:MAILTO:margit.matt@mathematik.tu-chemnitz.de
UID:11418@www.tu-chemnitz.de
CREATED:20090525T132300Z
DTSTAMP:20210802T193718Z
END:VEVENT
END:VCALENDAR
