BEGIN:VCALENDAR
VERSION:2.0
PRODID:TU Chemnitz
METHOD:PUBLISH
X-WR-CALNAME:Veranstaltungen der TU Chemnitz
X-WR-TIMEZONE:Europe/Berlin
BEGIN:VEVENT
CLASS:PUBLIC
DTSTART;TZID="Europe/Berlin":20090520T200000
DTEND;TZID="Europe/Berlin":20090520T230000
LOCATION:Club der Kulturen
SUMMARY:Quiz sur la Francophonie
DESCRIPTION:Lust auf "Wer wird Millionär"? Bei unserem Quiz- Abend erwarten euch Fragen zu Frankreich und der gesamten französischsprachigen Welt.\n\nVous ne gagnerez peut être pas des millions\, mais venez donc répondre aux questions!\nhttp://www.tu-chemnitz.de/stud/club/kulturen/
ORGANIZER:MAILTO:bianca.trepte@s2007.tu-chemnitz.de
UID:11398@www.tu-chemnitz.de
CREATED:20090515T190900Z
DTSTAMP:20210802T193800Z
END:VEVENT
END:VCALENDAR
