BEGIN:VCALENDAR
VERSION:2.0
PRODID:TU Chemnitz
METHOD:PUBLISH
X-WR-CALNAME:Veranstaltungen der TU Chemnitz
X-WR-TIMEZONE:Europe/Berlin
BEGIN:VEVENT
CLASS:PUBLIC
DTSTART;TZID="Europe/Berlin":20090513T210000
DTEND;TZID="Europe/Berlin":20090514T030000
LOCATION:Reichenhainer Str. 35/37\, Chemnitz (Studentenwohnheim)
SUMMARY:[PEB] Schlong #2
DESCRIPTION:Music by Falko Rock\nEintritt frei\nhttp://www.studentenkeller-chemnitz.de
ORGANIZER:MAILTO:stefanie.fischer@s2003.tu-chemnitz.de
UID:11389@www.tu-chemnitz.de
CREATED:20090512T190700Z
DTSTAMP:20210802T193800Z
END:VEVENT
END:VCALENDAR
