BEGIN:VCALENDAR
VERSION:2.0
PRODID:TU Chemnitz
METHOD:PUBLISH
X-WR-CALNAME:Veranstaltungen der TU Chemnitz
X-WR-TIMEZONE:Europe/Berlin
BEGIN:VEVENT
CLASS:PUBLIC
DTSTART;TZID="Europe/Berlin":20090526T173000
DTEND;TZID="Europe/Berlin":20090526T190000
LOCATION:Str. der Nationen 62\, Chemnitz (Altes Heizhaus)
SUMMARY:UNIX-Stammtisch (Universitätsrechenzentrum\, in Kooperation mit der GI-Regionalgruppe Chemnitz)
DESCRIPTION:Thema: Innovative Technologien im Datacenter\nThomas Müller\, URZ\, TU Chemnitz\nM.Ehrig\, Tel. 531 31525
ORGANIZER:MAILTO:ingrid.muschner@hrz.tu-chemnitz.de
UID:11384@www.tu-chemnitz.de
CREATED:20090511T155400Z
DTSTAMP:20210802T193801Z
END:VEVENT
END:VCALENDAR
