BEGIN:VCALENDAR
VERSION:2.0
PRODID:TU Chemnitz
METHOD:PUBLISH
X-WR-CALNAME:Veranstaltungen der TU Chemnitz
X-WR-TIMEZONE:Europe/Berlin
BEGIN:VEVENT
CLASS:PUBLIC
DTSTART;TZID="Europe/Berlin":20090513T183000
DTEND;TZID="Europe/Berlin":20090513T201500
LOCATION:Stadion an der Gellertstraße
SUMMARY:Chemnitzer FC - VFC Plauen (Regionalliga-Spiel des CFC)
DESCRIPTION:Derby unter Flutlicht! Studentenfreundliche Eintrittspreise! Die Himmelblauen empfangen mit Plauen einen direkten Konkurrenten um den Klassenerhalt. Mit der Buslinie 51 (Richtung Yorckgebiet/Zeisigwald) geht's bis vors Stadion und wieder zurück.\ninfo@chemnitzerfc.de
ORGANIZER:MAILTO:lutz.bartel@s2004.tu-chemnitz.de
UID:11383@www.tu-chemnitz.de
CREATED:20090511T092900Z
DTSTAMP:20210802T193758Z
END:VEVENT
END:VCALENDAR
