BEGIN:VCALENDAR
VERSION:2.0
PRODID:TU Chemnitz
METHOD:PUBLISH
X-WR-CALNAME:Veranstaltungen der TU Chemnitz
X-WR-TIMEZONE:Europe/Berlin
BEGIN:VEVENT
CLASS:PUBLIC
DTSTART;TZID="Europe/Berlin":20090430T210000
DTEND;TZID="Europe/Berlin":20090501T030000
LOCATION:Reichenhainer Str. 35/37\, Chemnitz (Studentenwohnheim)
SUMMARY:Tarantino-Cocktail Night
DESCRIPTION:Tarantinos Welt im Cocktailglas.\n\nEintritt Frei!\nhttp://www.studentenkeller-chemnitz.de
ORGANIZER:MAILTO:stefanie.fischer@s2003.tu-chemnitz.de
UID:11348@www.tu-chemnitz.de
CREATED:20090428T194200Z
DTSTAMP:20210802T193820Z
END:VEVENT
END:VCALENDAR
