BEGIN:VCALENDAR
VERSION:2.0
PRODID:TU Chemnitz
METHOD:PUBLISH
X-WR-CALNAME:Veranstaltungen der TU Chemnitz
X-WR-TIMEZONE:Europe/Berlin
BEGIN:VEVENT
CLASS:PUBLIC
DTSTART;TZID="Europe/Berlin":20090528T210000
DTEND;TZID="Europe/Berlin":20090528T230000
LOCATION:Kino\, Reichenhainer Str. 35/37\, Keller
SUMMARY:[Campuskino * "mittendrin"] Bedingungslos (filmclub »mittendrin«)
DESCRIPTION:In düsterer Drastik wandelt diese Amour Fou mit ihren fatalen Folgen. Der neue romantische Film Noir von Nightwatch-Regisseur Ole Bornedal.\nfilmclub@tu-chemnitz.de
ORGANIZER:MAILTO:robert.gerstenberger@s2004.tu-chemnitz.de
UID:11341@www.tu-chemnitz.de
CREATED:20090427T100100Z
DTSTAMP:20210802T193759Z
END:VEVENT
END:VCALENDAR
