BEGIN:VCALENDAR
VERSION:2.0
PRODID:TU Chemnitz
METHOD:PUBLISH
X-WR-CALNAME:Veranstaltungen der TU Chemnitz
X-WR-TIMEZONE:Europe/Berlin
BEGIN:VEVENT
CLASS:PUBLIC
DTSTART;TZID="Europe/Berlin":20090428T130000
DTEND;TZID="Europe/Berlin":20090428T163000
LOCATION:Reichenhainer Str. 55\, Chemnitz (Mensa)
SUMMARY:DEMO "Studieren in Chemnitz -- Wissen\, was Wut ist!" (TU Chemnitz\, Reformaktion (Studierende der TU Chemnitz))
DESCRIPTION:Kommt am 28.04.2009 um 13.00 Uhr auf den Mensavorplatz zur Demo: "Studieren in Chemnitz -- Wissen\, was Wut ist!"\nReformaktion\nreformaktion@googlemail.com
ORGANIZER:MAILTO:philipp.stroehle@s2006.tu-chemnitz.de
UID:11338@www.tu-chemnitz.de
CREATED:20090426T154100Z
DTSTAMP:20210802T193820Z
END:VEVENT
END:VCALENDAR
