BEGIN:VCALENDAR
VERSION:2.0
PRODID:TU Chemnitz
METHOD:PUBLISH
X-WR-CALNAME:Veranstaltungen der TU Chemnitz
X-WR-TIMEZONE:Europe/Berlin
BEGIN:VEVENT
CLASS:PUBLIC
DTSTART;TZID="Europe/Berlin":20090508T110000
DTEND;TZID="Europe/Berlin":20090508T110000
LOCATION:Erfenschlager Str. 73\, Chemnitz
SUMMARY:Promotion (Fakultät für Maschinenbau)
DESCRIPTION:Multimodale Bedienkonzepte im Dualtask - ein Ansatz für komplexe Bedienaufgaben im Fahrzeug\nDipl.-Ing. Michael Mischke\nkerstin.hensel@mb.tu-chemnitz.de
ORGANIZER:MAILTO:kerstin.hensel@mb.tu-chemnitz.de
UID:11335@www.tu-chemnitz.de
CREATED:20090424T084000Z
DTSTAMP:20210802T193803Z
END:VEVENT
END:VCALENDAR
