BEGIN:VCALENDAR
VERSION:2.0
PRODID:TU Chemnitz
METHOD:PUBLISH
X-WR-CALNAME:Veranstaltungen der TU Chemnitz
X-WR-TIMEZONE:Europe/Berlin
BEGIN:VEVENT
CLASS:PUBLIC
DTSTART;TZID="Europe/Berlin":19981013T210000
DTEND;TZID="Europe/Berlin":19981013T210000
LOCATION:Uni-Teil 3: Vettersstr. 64/66\, Chemnitz (Studentenwohnheim)
SUMMARY:Bandits (mittendrin - Filmclub der TU Chemnitz)
DESCRIPTION:Aus dem Knast in die Charts! Knacki-Frauen-Band nutzt Auftritt beim Polizeiball\, um die Kurve zu kriegen... \nRoadmovie   Music Clip   4 x Powerfrau = BANDITS\n\nmittendrin@tu-chemnitz.de
ORGANIZER:MAILTO:sul@hrz.tu-chemnitz.de
UID:113@www.tu-chemnitz.de
CREATED:19981006T171700Z
DTSTAMP:20210802T203603Z
END:VEVENT
END:VCALENDAR
