BEGIN:VCALENDAR
VERSION:2.0
PRODID:TU Chemnitz
METHOD:PUBLISH
X-WR-CALNAME:Veranstaltungen der TU Chemnitz
X-WR-TIMEZONE:Europe/Berlin
BEGIN:VEVENT
CLASS:PUBLIC
DTSTART;TZID="Europe/Berlin":20090421T180000
DTEND;TZID="Europe/Berlin":20090421T200000
LOCATION:Vettersstr. 52/54\, Chemnitz (Studentenwohnheim)
SUMMARY:Eröffnung Lesecafé (Wohnheimsprecher)
DESCRIPTION:Am 21.04. wird das Lesecafé mit einer poetischen Lesung von Frau Prof. Ulrike Brummert eröffnet. Alle Wohnheimbewohner und Interessierte sind herzlich eingeladen. Im Anschluss gibt es leckere Cocktails bei gepflegtem Lounge-Ambiente.\nProf. Ulrike Brummert\nwhs@tu-chemnitz.de
ORGANIZER:MAILTO:christina.schuster@s2007.tu-chemnitz.de
UID:11281@www.tu-chemnitz.de
CREATED:20090416T085300Z
DTSTAMP:20210802T193818Z
END:VEVENT
END:VCALENDAR
