BEGIN:VCALENDAR
VERSION:2.0
PRODID:TU Chemnitz
METHOD:PUBLISH
X-WR-CALNAME:Veranstaltungen der TU Chemnitz
X-WR-TIMEZONE:Europe/Berlin
BEGIN:VEVENT
CLASS:PUBLIC
DTSTART;TZID="Europe/Berlin":20090427T103000
DTEND;TZID="Europe/Berlin":20090428T133000
LOCATION:Fraunhofer IWU Dresden (!)
SUMMARY:2. Wissenschaftliches Symposium SFB/TR 39 PT-PIESA (Fakultät für Maschinenbau\, SFB/TR 39)
DESCRIPTION:Schwerpunkte sind die Umformung von Blechstrukturen\nmit integrierten Piezo-Modulen zu aktiven Karosseriebauteilen\, die Integration von Piezo-Modulen in Leichtmetallbauteile durch Druckguss und neue Verfahren zur Herstellung aktiver Faserverbundstrukturen.\nFr. Marx\, Tel 0371-531-34532\, pt-piesa-gs@mb.tu-chemnitz.de
ORGANIZER:MAILTO:hartmut.dube@mb.tu-chemnitz.de
UID:11257@www.tu-chemnitz.de
CREATED:20090408T174500Z
DTSTAMP:20210802T193816Z
END:VEVENT
END:VCALENDAR
