BEGIN:VCALENDAR
VERSION:2.0
PRODID:TU Chemnitz
METHOD:PUBLISH
X-WR-CALNAME:Veranstaltungen der TU Chemnitz
X-WR-TIMEZONE:Europe/Berlin
BEGIN:VEVENT
CLASS:PUBLIC
DTSTART;TZID="Europe/Berlin":20090508T090000
DTEND;TZID="Europe/Berlin":20090508T170000
LOCATION:wird nach Anmeldung bekannt gegeben
SUMMARY:Grundlagen des Projektmanagements (Fakultät für Wirtschaftswissenschaften)
DESCRIPTION:Der Workshop beschäftigt sich mit der Vermittlung von Informationen rund um Projektplanung und -management sowie der persönliche Umgang im Team.\nTorsten Scholl\, SAXEED\n0371/ 531-19900\, info@saxeed.net
ORGANIZER:MAILTO:claudia.kuechler@s2007.tu-chemnitz.de
UID:11245@www.tu-chemnitz.de
CREATED:20090406T145300Z
DTSTAMP:20210802T193801Z
END:VEVENT
END:VCALENDAR
