BEGIN:VCALENDAR
VERSION:2.0
PRODID:TU Chemnitz
METHOD:PUBLISH
X-WR-CALNAME:Veranstaltungen der TU Chemnitz
X-WR-TIMEZONE:Europe/Berlin
BEGIN:VEVENT
CLASS:PUBLIC
DTSTART;TZID="Europe/Berlin":20090526T100000
DTEND;TZID="Europe/Berlin":20090526T113000
LOCATION:Reichenhainer Str. 90\, Chemnitz (Zentr. Hörsaal- und Seminargebäude)
SUMMARY:Chancen in der EU-Forschung: Das 7. Forschungsrahmenprogramm der EU - ein Einstieg für (Nachwuchs-)Wissenschaftlerinnen (TU Chemnitz\, Dezernat Haushalt und Wirtschaft\, Abteilung 3.3)
DESCRIPTION:Ziel der Veranstaltung ist es\, einen fundierten Überblick über die Fördermöglichkeiten im 7. Forschungsrahmenprogramm der EU für (Nachwuchs-)Wissenschaftlerinnen zu geben.\nNadine Heller\, Kontaktstelle Frauen in die EU-Forschung/FiF\, EU-Büro des BMBF\, PT-DLR\nFrau Ines Schwarz\, Tel.: 0371 531 31258\, E-Mail: ines.schwarz@verwaltung.tu-chemnitz.de
ORGANIZER:MAILTO:ines.schwarz@verwaltung.tu-chemnitz.de
UID:11200@www.tu-chemnitz.de
CREATED:20090406T113100Z
DTSTAMP:20210802T193801Z
END:VEVENT
END:VCALENDAR
