BEGIN:VCALENDAR
VERSION:2.0
PRODID:TU Chemnitz
METHOD:PUBLISH
X-WR-CALNAME:Veranstaltungen der TU Chemnitz
X-WR-TIMEZONE:Europe/Berlin
BEGIN:VEVENT
CLASS:PUBLIC
DTSTART;TZID="Europe/Berlin":20090416T130000
DTEND;TZID="Europe/Berlin":20090416T170000
LOCATION:Str. der Nationen 62\, Chemnitz (Böttcher-Bau)
SUMMARY:Informatik-Kolloquium (Fakultät für Informatik)
DESCRIPTION:Öffentliche Verteidigung im Rahmen des Promotionsverfahrens von Herrn Jörg Lässig\nzum Thema "Algorithms and Models for the Generation and Control of Competence Networks"\nHerr Jörg Lässig\ndekanat@informatik.tu-chemnitz.de
ORGANIZER:MAILTO:ulrike.luthe@informatik.tu-chemnitz.de
UID:11187@www.tu-chemnitz.de
CREATED:20090331T130800Z
DTSTAMP:20210802T193826Z
END:VEVENT
END:VCALENDAR
