BEGIN:VCALENDAR
VERSION:2.0
PRODID:TU Chemnitz
METHOD:PUBLISH
X-WR-CALNAME:Veranstaltungen der TU Chemnitz
X-WR-TIMEZONE:Europe/Berlin
BEGIN:VEVENT
CLASS:PUBLIC
DTSTART;TZID="Europe/Berlin":20090414T210000
DTEND;TZID="Europe/Berlin":20090414T230000
LOCATION:Kino\, Reichenhainer Str. 35/37\, Keller
SUMMARY:[Campuskino * "mittendrin"] The International (filmclub »mittendrin«)
DESCRIPTION:Clive Owen im Kampf gegen eine Bank\, die nicht um Finanzspritzen duch Regierungen bettelt\, sondern diese kontrolliert.\nfilmclub@tu-chemnitz.de
ORGANIZER:MAILTO:robert.gerstenberger@s2004.tu-chemnitz.de
UID:11178@www.tu-chemnitz.de
CREATED:20090327T183900Z
DTSTAMP:20210802T193819Z
END:VEVENT
END:VCALENDAR
