BEGIN:VCALENDAR
VERSION:2.0
PRODID:TU Chemnitz
METHOD:PUBLISH
X-WR-CALNAME:Veranstaltungen der TU Chemnitz
X-WR-TIMEZONE:Europe/Berlin
BEGIN:VEVENT
CLASS:PUBLIC
DTSTART;TZID="Europe/Berlin":20090515T140000
DTEND;TZID="Europe/Berlin":20090515T140000
LOCATION:Str. der Nationen 62\, Chemnitz (Böttcher-Bau)
SUMMARY:Promotion (Fakultät für Maschinenbau)
DESCRIPTION:Ein Beitrag zur experimentellen und numerischen Analyse zeitabhängiger Eigenschaften von DMS-Messstellen\nDipl.-Ing. Silvio Nebel\nkerstin.hensel@mb.tu-chemnitz.de
ORGANIZER:MAILTO:kerstin.hensel@mb.tu-chemnitz.de
UID:11164@www.tu-chemnitz.de
CREATED:20090318T085800Z
DTSTAMP:20210802T193802Z
END:VEVENT
END:VCALENDAR
