BEGIN:VCALENDAR
VERSION:2.0
PRODID:TU Chemnitz
METHOD:PUBLISH
X-WR-CALNAME:Veranstaltungen der TU Chemnitz
X-WR-TIMEZONE:Europe/Berlin
BEGIN:VEVENT
CLASS:PUBLIC
DTSTART;TZID="Europe/Berlin":20090318T210000
DTEND;TZID="Europe/Berlin":20090319T030000
LOCATION:Reichenhainer Str. 35/37\, Chemnitz (Studentenwohnheim)
SUMMARY:90er Jahre Rock-Party (TU Chemnitz)
DESCRIPTION:Das Beste aus den 90er Jahren präsentiert von DJ DuDi. In Kombination mit der ausgelassenen Stimmung im Club  verspricht dies ein interessantes Abendprogramm.\n\nEintritt frei!\nPEB Studentenkeller
ORGANIZER:MAILTO:pierre.grzona@s2006.tu-chemnitz.de
UID:11163@www.tu-chemnitz.de
CREATED:20090316T115800Z
DTSTAMP:20210802T193836Z
END:VEVENT
END:VCALENDAR
