BEGIN:VCALENDAR
VERSION:2.0
PRODID:TU Chemnitz
METHOD:PUBLISH
X-WR-CALNAME:Veranstaltungen der TU Chemnitz
X-WR-TIMEZONE:Europe/Berlin
BEGIN:VEVENT
CLASS:PUBLIC
DTSTART;TZID="Europe/Berlin":20090306T090000
DTEND;TZID="Europe/Berlin":20090307T160000
LOCATION:Messe Chemnitz\, Halle 1\, Stand 112 & 194
SUMMARY:azubi- & studientage: Future Truck & Studienberatung (TU Chemnitz\, Zentrale Studienberatung)
DESCRIPTION:Vorgestellt werden die 31 Bachelorstudiengänge\, die im Wintersemester 2009/2010 angeboten werden\, und die darauf aufbauenden Masterstudiengänge. Der Future Truck lädt zum Anfassen\, Staunen und Ausprobieren ein.\nTelefon 0371 531-55555\, E-Mail studienberatung@tu-chemnitz.de
ORGANIZER:MAILTO:mario.steinebach@verwaltung.tu-chemnitz.de
UID:11148@www.tu-chemnitz.de
CREATED:20090306T080600Z
DTSTAMP:20210802T193837Z
END:VEVENT
END:VCALENDAR
