BEGIN:VCALENDAR
VERSION:2.0
PRODID:TU Chemnitz
METHOD:PUBLISH
X-WR-CALNAME:Veranstaltungen der TU Chemnitz
X-WR-TIMEZONE:Europe/Berlin
BEGIN:VEVENT
CLASS:PUBLIC
DTSTART;TZID="Europe/Berlin":20090406T100000
DTEND;TZID="Europe/Berlin":20090406T110000
LOCATION:Pegasus-Center\, Chemnitz
SUMMARY:Bibliotheksführung  (Universitätsbibliothek)
DESCRIPTION:Allgemeine Einführung in die Bibliotheks- und Katalogbenutzung\nkeine Anmeldung nötig
ORGANIZER:MAILTO:sandra.konrad@bibliothek.tu-chemnitz.de
UID:11124@www.tu-chemnitz.de
CREATED:20090224T143600Z
DTSTAMP:20210802T193816Z
END:VEVENT
END:VCALENDAR
