BEGIN:VCALENDAR
VERSION:2.0
PRODID:TU Chemnitz
METHOD:PUBLISH
X-WR-CALNAME:Veranstaltungen der TU Chemnitz
X-WR-TIMEZONE:Europe/Berlin
BEGIN:VEVENT
CLASS:PUBLIC
DTSTART;TZID="Europe/Berlin":20090528T160000
DTEND;TZID="Europe/Berlin":20090528T180000
LOCATION:Hörsaal 1/232 (Eingang Universitätsbibliothek\, Bahnhofstraße)
SUMMARY:GDCh - Kolloqium\, Prof. Dr. Norbert W. Mitzel\, Lehrstuhl für Anorganische Chemie und Strukturchemie\, Universität Bielefeld\, "Die Metallorganische Chemie von N-Heteroalkylen mit Li\, Al\, und den Lanthanid-Elementen" (Fakultät für Naturwissenschaften\, Institut für Chemie zusammen mit der Gesellschaft Deutscher Chemiker (GDCh))
DESCRIPTION:Prof. Dr. Werner A. Goedel\, 531-31713\, werner.goedel@chemie.tu-chemnitz.de
ORGANIZER:MAILTO:sylvia.uhlmann@chemie.tu-chemnitz.de
UID:11113@www.tu-chemnitz.de
CREATED:20090220T094000Z
DTSTAMP:20210802T193757Z
END:VEVENT
END:VCALENDAR
