BEGIN:VCALENDAR
VERSION:2.0
PRODID:TU Chemnitz
METHOD:PUBLISH
X-WR-CALNAME:Veranstaltungen der TU Chemnitz
X-WR-TIMEZONE:Europe/Berlin
BEGIN:VEVENT
CLASS:PUBLIC
DTSTART;TZID="Europe/Berlin":20090430T160000
DTEND;TZID="Europe/Berlin":20090430T180000
LOCATION:Hörsaal 1/232 (Eingang Universitätsbibliothek\, Bahnhofstraße)
SUMMARY:GDCh - Kolloqium\, Dr. Timo Jacob\, Fritz-Haber-Institut der Max Planck Gesellschaft\, "Towards an Atomistic Understanding of Electrochemical Systems" (Fakultät für Naturwissenschaften\, Institut für Chemie zusammen mit der Gesellschaft Deutscher Chemiker (GDCh))
DESCRIPTION:Prof. Dr. Werner A. Goedel\, 531-31713\, werner.goedel@chemie.tu-chemnitz.de
ORGANIZER:MAILTO:sylvia.uhlmann@chemie.tu-chemnitz.de
UID:11112@www.tu-chemnitz.de
CREATED:20090220T093600Z
DTSTAMP:20210802T193818Z
END:VEVENT
END:VCALENDAR
