BEGIN:VCALENDAR
VERSION:2.0
PRODID:TU Chemnitz
METHOD:PUBLISH
X-WR-CALNAME:Veranstaltungen der TU Chemnitz
X-WR-TIMEZONE:Europe/Berlin
BEGIN:VEVENT
CLASS:PUBLIC
DTSTART;TZID="Europe/Berlin":20090213T140000
DTEND;TZID="Europe/Berlin":20090213T150000
LOCATION:Reichenhainer Str. 90\, Chemnitz (Zentr. Hörsaal- und Seminargebäude)
SUMMARY:Feldeffekt-Transistoren auf Foliensubstraten: Organische Halbleiter oder Nanopartikel? (Fakultät für Elektrotechnik und Informationstechnik)
DESCRIPTION:Prof. Hilleringmann / Universität Paderborn\nAlle Interessenten sind herzlich eingelagen.
ORGANIZER:MAILTO:karl.nestler@infotech.tu-chemnitz.de
UID:11104@www.tu-chemnitz.de
CREATED:20090213T090000Z
DTSTAMP:20210802T193847Z
END:VEVENT
END:VCALENDAR
