BEGIN:VCALENDAR
VERSION:2.0
PRODID:TU Chemnitz
METHOD:PUBLISH
X-WR-CALNAME:Veranstaltungen der TU Chemnitz
X-WR-TIMEZONE:Europe/Berlin
BEGIN:VEVENT
CLASS:PUBLIC
DTSTART;TZID="Europe/Berlin":20090302T170000
DTEND;TZID="Europe/Berlin":20090302T170000
LOCATION:Erfenschlager Str. 73\, Chemnitz
SUMMARY:Promotion (Fakultät für Maschinenbau)
DESCRIPTION:Ganzheitliche Verfahrens- und Schichtoptimierung für das Hochgeschwindigkeitsdrahtflammspritzen\nDipl.-Ing. Christian Rupprecht\nkerstin.hensel@mb.tu-chemnitz.de
ORGANIZER:MAILTO:kerstin.hensel@mb.tu-chemnitz.de
UID:11103@www.tu-chemnitz.de
CREATED:20090210T153500Z
DTSTAMP:20210802T193835Z
END:VEVENT
END:VCALENDAR
