BEGIN:VCALENDAR
VERSION:2.0
PRODID:TU Chemnitz
METHOD:PUBLISH
X-WR-CALNAME:Veranstaltungen der TU Chemnitz
X-WR-TIMEZONE:Europe/Berlin
BEGIN:VEVENT
CLASS:PUBLIC
DTSTART;TZID="Europe/Berlin":20090202T134500
DTEND;TZID="Europe/Berlin":20090202T151500
LOCATION:Reichenhainer Str. 90\, Chemnitz (Zentr. Hörsaal- und Seminargebäude)
SUMMARY:Einsatz der Peripherie eines Microcontrollers für Messaufgaben  (Fakultät für Elektrotechnik und Informationstechnik\, Professur für Mess- und Sensortechnik)
DESCRIPTION:Für Messaufgaben sind Microcontrollern mit einer erweiterten Peripherie von besonderem Interesse. Dadurch kann die Entwicklung eines Messystems einfacher werden. Ziel des Vortrag sind Messverfahren auf der Basis von Microcontrollerperipherie vorzustellen.\nHerr Müller\, Fa Microchip\nFrau Fichtner\, Tel: (0)371 / 531 - 35755
ORGANIZER:MAILTO:olfa.kanoun@etit.tu-chemnitz.de
UID:11084@www.tu-chemnitz.de
CREATED:20090202T085600Z
DTSTAMP:20210802T193845Z
END:VEVENT
END:VCALENDAR
