BEGIN:VCALENDAR
VERSION:2.0
PRODID:TU Chemnitz
METHOD:PUBLISH
X-WR-CALNAME:Veranstaltungen der TU Chemnitz
X-WR-TIMEZONE:Europe/Berlin
BEGIN:VEVENT
CLASS:PUBLIC
DTSTART;TZID="Europe/Berlin":20090417T140000
DTEND;TZID="Europe/Berlin":20090417T140000
LOCATION:Reichenhainer Str. 70\, Chemnitz (Rühlmann-Bau)
SUMMARY:Promotion (Fakultät für Maschinenbau)
DESCRIPTION:Kontinuierliche Herstellung von Legierungen aus Elastomerpartikeln und Polypropylen durch reaktive Aufbereitung in einem Gleichdralldoppelschneckenextruder\nDipl.-Ing. Sven Wießner\nkerstin.hensel@mb.tu-chemnitz.de
ORGANIZER:MAILTO:kerstin.hensel@mb.tu-chemnitz.de
UID:11069@www.tu-chemnitz.de
CREATED:20090129T122800Z
DTSTAMP:20210802T193819Z
END:VEVENT
END:VCALENDAR
