BEGIN:VCALENDAR
VERSION:2.0
PRODID:TU Chemnitz
METHOD:PUBLISH
X-WR-CALNAME:Veranstaltungen der TU Chemnitz
X-WR-TIMEZONE:Europe/Berlin
BEGIN:VEVENT
CLASS:PUBLIC
DTSTART;TZID="Europe/Berlin":20090325T173000
DTEND;TZID="Europe/Berlin":20090325T190000
LOCATION:Str. der Nationen 62\, Chemnitz (Böttcher-Bau)
SUMMARY:Medizin im Spannungsfeld zwischen Wissenschaft und Gesellschaft: "Insektengiftallergien\, Arzneimittelallergien und Kontaktallergien - neue Diagnostikverfahren und Behandlungsmöglichkeiten" (TU Chemnitz\, Klinikum Chemnitz gGmbH)
DESCRIPTION:Chefärztin Dr. med. Ingrid Feldmann-Böddeker\, DRK-Krankenhaus Rabenstein/Hautklinik\n Prof. Dr. med. habil. Johannes Schweizer\, 0371 33342500\, j.schweizer@skr.de
ORGANIZER:MAILTO:irene.roesler@verwaltung.tu-chemnitz.de
UID:11064@www.tu-chemnitz.de
CREATED:20090128T152300Z
DTSTAMP:20210802T193834Z
END:VEVENT
END:VCALENDAR
