BEGIN:VCALENDAR
VERSION:2.0
PRODID:TU Chemnitz
METHOD:PUBLISH
X-WR-CALNAME:Veranstaltungen der TU Chemnitz
X-WR-TIMEZONE:Europe/Berlin
BEGIN:VEVENT
CLASS:PUBLIC
DTSTART;TZID="Europe/Berlin":20001007T090000
DTEND;TZID="Europe/Berlin":20001007T130000
LOCATION:Uni-Teil 1: Str. der Nationen 62\, Chemnitz (Böttcher-Bau)
SUMMARY: Fortbildung für Chemielehrer "Reaktionsmechanismen in der organischen Chemie" (Fakultät für Naturwissenschaften\, Institut für Chemie gemeinsam mit den Regionalschulämtern Chemnitz und Zwickau)
DESCRIPTION:Themen: Der Verlauf chemischer Reaktionen auf molekularer Ebene; radikalische\, nucleophile und elektrophile Substitutionen und Additionen; Eliminierungs- und Umlagerungsreaktionen\nProf. Dr. Klaus Banert\, TU Chemnitz\nEine Anmeldung zu den Sonnabendveranstaltungen ist nicht erforderlich.
ORGANIZER:MAILTO:erah@hrz.tu-chemnitz.de
UID:1104@www.tu-chemnitz.de
CREATED:20000413T134200Z
DTSTAMP:20210802T202901Z
END:VEVENT
END:VCALENDAR
