BEGIN:VCALENDAR
VERSION:2.0
PRODID:TU Chemnitz
METHOD:PUBLISH
X-WR-CALNAME:Veranstaltungen der TU Chemnitz
X-WR-TIMEZONE:Europe/Berlin
BEGIN:VEVENT
CLASS:PUBLIC
DTSTART;TZID="Europe/Berlin":20090120T203000
DTEND;TZID="Europe/Berlin":20090120T230000
LOCATION:Thüringer Weg 11\, Chemnitz
SUMMARY:Studentenrat Sitzung (TU Chemnitz)
DESCRIPTION:weitere Infos während den Öffnungszeiten oder per Email.\nMarco Unger\nstura@tu-chemnitz.de
ORGANIZER:MAILTO:kristian.onischka@s2004.tu-chemnitz.de
UID:11032@www.tu-chemnitz.de
CREATED:20090120T092400Z
DTSTAMP:20210802T193904Z
END:VEVENT
END:VCALENDAR
