BEGIN:VCALENDAR
VERSION:2.0
PRODID:TU Chemnitz
METHOD:PUBLISH
X-WR-CALNAME:Veranstaltungen der TU Chemnitz
X-WR-TIMEZONE:Europe/Berlin
BEGIN:VEVENT
CLASS:PUBLIC
DTSTART;TZID="Europe/Berlin":20090120T190000
DTEND;TZID="Europe/Berlin":20090120T203000
LOCATION:Reichenhainer Str. 90\, Chemnitz (Zentr. Hörsaal- und Seminargebäude)
SUMMARY:Ergebnisse aus dem Lehrforschungsprojekt "Indiengeschichten - Konstitution von und Umgang mit kultureller Differenz in den reisebiografischen Erzählungen von deutschen Indientouristen" (Philosophische Fakultät\, Interkulturelle Kommunikation)
DESCRIPTION:Master-StudentInnen der Interkulturellen Kommunikation\nArne Weidemann\, arne.weidemann@phil.tu-chemnitz.de
ORGANIZER:MAILTO:corina.markert@phil.tu-chemnitz.de
UID:11019@www.tu-chemnitz.de
CREATED:20090114T144000Z
DTSTAMP:20210802T193857Z
END:VEVENT
END:VCALENDAR
