BEGIN:VCALENDAR
VERSION:2.0
PRODID:TU Chemnitz
METHOD:PUBLISH
X-WR-CALNAME:Veranstaltungen der TU Chemnitz
X-WR-TIMEZONE:Europe/Berlin
BEGIN:VEVENT
CLASS:PUBLIC
DTSTART;TZID="Europe/Berlin":20090205T153000
DTEND;TZID="Europe/Berlin":20090205T170000
LOCATION:Reichenhainer Str. 90\, Chemnitz (Zentr. Hörsaal- und Seminargebäude)
SUMMARY:Grundlagen der Extrusionstechnik (Fakultät für Maschinenbau\, Professur Strukturleichtbau und Kunststoffverarbeitung SLK)
DESCRIPTION:- Technologiegebiete der Extrusionstechnik\n- Verfahren zur Extrusion von Rohren\, Profilen\, Platten\, Folien\, Schäumen\n- Maschinen- und Anlagensysteme \n- Aufbereitung von Polyolefinen und Technischen Kunststoffen \n- Extrusion von Gummiartikeln\nDr. Jens Liebhold\, KraussMaffei Technologies GmbH
ORGANIZER:MAILTO:sandra.gelbrich@mb.tu-chemnitz.de
UID:11015@www.tu-chemnitz.de
CREATED:20090113T154400Z
DTSTAMP:20210802T193847Z
END:VEVENT
END:VCALENDAR
