BEGIN:VCALENDAR
VERSION:2.0
PRODID:TU Chemnitz
METHOD:PUBLISH
X-WR-CALNAME:Veranstaltungen der TU Chemnitz
X-WR-TIMEZONE:Europe/Berlin
BEGIN:VEVENT
CLASS:PUBLIC
DTSTART;TZID="Europe/Berlin":20090128T210000
DTEND;TZID="Europe/Berlin":20090129T030000
LOCATION:Reichenhainer Str. 35/37\, Chemnitz (Studentenwohnheim)
SUMMARY:Fasching (TU Chemnitz)
DESCRIPTION:Als Ausklang des Semesters feiern wir nochmal einen richtigen Fasching mit Kamelle und anderen Utensilien. \nKostümierungen sind erwünscht und werden belohnt.\n\nEintritt Frei
ORGANIZER:MAILTO:pierre.grzona@s2006.tu-chemnitz.de
UID:11010@www.tu-chemnitz.de
CREATED:20090112T202200Z
DTSTAMP:20210802T193904Z
END:VEVENT
END:VCALENDAR
